BEGIN:VCALENDAR
VERSION:2.0
PRODID:-//Mindful Centers - ECPv6.15.20//NONSGML v1.0//EN
CALSCALE:GREGORIAN
METHOD:PUBLISH
X-ORIGINAL-URL:https://mindfulcenters.com
X-WR-CALDESC:Events for Mindful Centers
REFRESH-INTERVAL;VALUE=DURATION:PT1H
X-Robots-Tag:noindex
X-PUBLISHED-TTL:PT1H
BEGIN:VTIMEZONE
TZID:America/Los_Angeles
BEGIN:DAYLIGHT
TZOFFSETFROM:-0800
TZOFFSETTO:-0700
TZNAME:PDT
DTSTART:20270314T100000
END:DAYLIGHT
BEGIN:STANDARD
TZOFFSETFROM:-0700
TZOFFSETTO:-0800
TZNAME:PST
DTSTART:20271107T090000
END:STANDARD
BEGIN:DAYLIGHT
TZOFFSETFROM:-0800
TZOFFSETTO:-0700
TZNAME:PDT
DTSTART:20280312T100000
END:DAYLIGHT
BEGIN:STANDARD
TZOFFSETFROM:-0700
TZOFFSETTO:-0800
TZNAME:PST
DTSTART:20281105T090000
END:STANDARD
BEGIN:DAYLIGHT
TZOFFSETFROM:-0800
TZOFFSETTO:-0700
TZNAME:PDT
DTSTART:20290311T100000
END:DAYLIGHT
BEGIN:STANDARD
TZOFFSETFROM:-0700
TZOFFSETTO:-0800
TZNAME:PST
DTSTART:20291104T090000
END:STANDARD
END:VTIMEZONE
BEGIN:VEVENT
DTSTART;TZID=America/Los_Angeles:20281103T090000
DTEND;TZID=America/Los_Angeles:20281103T210000
DTSTAMP:20260423T011004
CREATED:20260210T230640Z
LAST-MODIFIED:20260211T005018Z
UID:10002260-1856854800-1856898000@mindfulcenters.com
SUMMARY:Recovery Dharma
DESCRIPTION:Recovery Dharma at Mindful Centers is a peer-led support community for individuals seeking freedom from addiction through mindfulness\, compassion\, and shared experience. Similar to 12-step programs\, Recovery Dharma offers a structured\, community-based approach to recovery that emphasizes personal responsibility\, mutual support\, and ongoing practice. Unlike 12-step models\, Recovery Dharma is non-theistic and rooted in mindfulness and Buddhist-inspired principles rather than a higher-power framework. \nThis group provides a safe\, non-judgmental space where participants support one another as equals\, honoring each person’s unique recovery journey and inner wisdom. The group is peer-to-peer and not a therapy group; it is facilitated by non-professional community members. At times\, Mindful Centers clinicians or staff may join as guest speakers to share mindfulness-based insights\, but they do not lead or provide clinical treatment within the group. \nRecovery Dharma draws inspiration from Buddhist traditions that originated in India and were carried forward across many Asian cultures. We approach these teachings with respect\, cultural humility\, and gratitude for the communities who preserved and shared this wisdom. \nThose interested in joining must complete a required 20-minute consultation prior to participation. To schedule a consultation\, please click here or call 562-356-8686. You may also email info@mindfulcenters.com.
URL:https://mindfulcenters.com/program/recovery-dharma/2028-11-03/
ORGANIZER;CN="Mindful Centers":MAILTO:info@mindfulcenters.com
END:VEVENT
BEGIN:VEVENT
DTSTART;TZID=America/Los_Angeles:20281104T090000
DTEND;TZID=America/Los_Angeles:20281104T210000
DTSTAMP:20260423T011004
CREATED:20260210T230640Z
LAST-MODIFIED:20260211T005018Z
UID:10002261-1856941200-1856984400@mindfulcenters.com
SUMMARY:Recovery Dharma
DESCRIPTION:Recovery Dharma at Mindful Centers is a peer-led support community for individuals seeking freedom from addiction through mindfulness\, compassion\, and shared experience. Similar to 12-step programs\, Recovery Dharma offers a structured\, community-based approach to recovery that emphasizes personal responsibility\, mutual support\, and ongoing practice. Unlike 12-step models\, Recovery Dharma is non-theistic and rooted in mindfulness and Buddhist-inspired principles rather than a higher-power framework. \nThis group provides a safe\, non-judgmental space where participants support one another as equals\, honoring each person’s unique recovery journey and inner wisdom. The group is peer-to-peer and not a therapy group; it is facilitated by non-professional community members. At times\, Mindful Centers clinicians or staff may join as guest speakers to share mindfulness-based insights\, but they do not lead or provide clinical treatment within the group. \nRecovery Dharma draws inspiration from Buddhist traditions that originated in India and were carried forward across many Asian cultures. We approach these teachings with respect\, cultural humility\, and gratitude for the communities who preserved and shared this wisdom. \nThose interested in joining must complete a required 20-minute consultation prior to participation. To schedule a consultation\, please click here or call 562-356-8686. You may also email info@mindfulcenters.com.
URL:https://mindfulcenters.com/program/recovery-dharma/2028-11-04/
ORGANIZER;CN="Mindful Centers":MAILTO:info@mindfulcenters.com
END:VEVENT
BEGIN:VEVENT
DTSTART;TZID=America/Los_Angeles:20281105T090000
DTEND;TZID=America/Los_Angeles:20281105T210000
DTSTAMP:20260423T011004
CREATED:20260210T230640Z
LAST-MODIFIED:20260211T005018Z
UID:10002262-1857027600-1857070800@mindfulcenters.com
SUMMARY:Recovery Dharma
DESCRIPTION:Recovery Dharma at Mindful Centers is a peer-led support community for individuals seeking freedom from addiction through mindfulness\, compassion\, and shared experience. Similar to 12-step programs\, Recovery Dharma offers a structured\, community-based approach to recovery that emphasizes personal responsibility\, mutual support\, and ongoing practice. Unlike 12-step models\, Recovery Dharma is non-theistic and rooted in mindfulness and Buddhist-inspired principles rather than a higher-power framework. \nThis group provides a safe\, non-judgmental space where participants support one another as equals\, honoring each person’s unique recovery journey and inner wisdom. The group is peer-to-peer and not a therapy group; it is facilitated by non-professional community members. At times\, Mindful Centers clinicians or staff may join as guest speakers to share mindfulness-based insights\, but they do not lead or provide clinical treatment within the group. \nRecovery Dharma draws inspiration from Buddhist traditions that originated in India and were carried forward across many Asian cultures. We approach these teachings with respect\, cultural humility\, and gratitude for the communities who preserved and shared this wisdom. \nThose interested in joining must complete a required 20-minute consultation prior to participation. To schedule a consultation\, please click here or call 562-356-8686. You may also email info@mindfulcenters.com.
URL:https://mindfulcenters.com/program/recovery-dharma/2028-11-05/
ORGANIZER;CN="Mindful Centers":MAILTO:info@mindfulcenters.com
END:VEVENT
BEGIN:VEVENT
DTSTART;TZID=America/Los_Angeles:20281110T090000
DTEND;TZID=America/Los_Angeles:20281110T210000
DTSTAMP:20260423T011004
CREATED:20260210T230640Z
LAST-MODIFIED:20260211T005018Z
UID:10002263-1857459600-1857502800@mindfulcenters.com
SUMMARY:Recovery Dharma
DESCRIPTION:Recovery Dharma at Mindful Centers is a peer-led support community for individuals seeking freedom from addiction through mindfulness\, compassion\, and shared experience. Similar to 12-step programs\, Recovery Dharma offers a structured\, community-based approach to recovery that emphasizes personal responsibility\, mutual support\, and ongoing practice. Unlike 12-step models\, Recovery Dharma is non-theistic and rooted in mindfulness and Buddhist-inspired principles rather than a higher-power framework. \nThis group provides a safe\, non-judgmental space where participants support one another as equals\, honoring each person’s unique recovery journey and inner wisdom. The group is peer-to-peer and not a therapy group; it is facilitated by non-professional community members. At times\, Mindful Centers clinicians or staff may join as guest speakers to share mindfulness-based insights\, but they do not lead or provide clinical treatment within the group. \nRecovery Dharma draws inspiration from Buddhist traditions that originated in India and were carried forward across many Asian cultures. We approach these teachings with respect\, cultural humility\, and gratitude for the communities who preserved and shared this wisdom. \nThose interested in joining must complete a required 20-minute consultation prior to participation. To schedule a consultation\, please click here or call 562-356-8686. You may also email info@mindfulcenters.com.
URL:https://mindfulcenters.com/program/recovery-dharma/2028-11-10/
ORGANIZER;CN="Mindful Centers":MAILTO:info@mindfulcenters.com
END:VEVENT
BEGIN:VEVENT
DTSTART;TZID=America/Los_Angeles:20281111T090000
DTEND;TZID=America/Los_Angeles:20281111T210000
DTSTAMP:20260423T011004
CREATED:20260210T230640Z
LAST-MODIFIED:20260211T005018Z
UID:10002264-1857546000-1857589200@mindfulcenters.com
SUMMARY:Recovery Dharma
DESCRIPTION:Recovery Dharma at Mindful Centers is a peer-led support community for individuals seeking freedom from addiction through mindfulness\, compassion\, and shared experience. Similar to 12-step programs\, Recovery Dharma offers a structured\, community-based approach to recovery that emphasizes personal responsibility\, mutual support\, and ongoing practice. Unlike 12-step models\, Recovery Dharma is non-theistic and rooted in mindfulness and Buddhist-inspired principles rather than a higher-power framework. \nThis group provides a safe\, non-judgmental space where participants support one another as equals\, honoring each person’s unique recovery journey and inner wisdom. The group is peer-to-peer and not a therapy group; it is facilitated by non-professional community members. At times\, Mindful Centers clinicians or staff may join as guest speakers to share mindfulness-based insights\, but they do not lead or provide clinical treatment within the group. \nRecovery Dharma draws inspiration from Buddhist traditions that originated in India and were carried forward across many Asian cultures. We approach these teachings with respect\, cultural humility\, and gratitude for the communities who preserved and shared this wisdom. \nThose interested in joining must complete a required 20-minute consultation prior to participation. To schedule a consultation\, please click here or call 562-356-8686. You may also email info@mindfulcenters.com.
URL:https://mindfulcenters.com/program/recovery-dharma/2028-11-11/
ORGANIZER;CN="Mindful Centers":MAILTO:info@mindfulcenters.com
END:VEVENT
BEGIN:VEVENT
DTSTART;TZID=America/Los_Angeles:20281112T090000
DTEND;TZID=America/Los_Angeles:20281112T210000
DTSTAMP:20260423T011004
CREATED:20260210T230640Z
LAST-MODIFIED:20260211T005018Z
UID:10002265-1857632400-1857675600@mindfulcenters.com
SUMMARY:Recovery Dharma
DESCRIPTION:Recovery Dharma at Mindful Centers is a peer-led support community for individuals seeking freedom from addiction through mindfulness\, compassion\, and shared experience. Similar to 12-step programs\, Recovery Dharma offers a structured\, community-based approach to recovery that emphasizes personal responsibility\, mutual support\, and ongoing practice. Unlike 12-step models\, Recovery Dharma is non-theistic and rooted in mindfulness and Buddhist-inspired principles rather than a higher-power framework. \nThis group provides a safe\, non-judgmental space where participants support one another as equals\, honoring each person’s unique recovery journey and inner wisdom. The group is peer-to-peer and not a therapy group; it is facilitated by non-professional community members. At times\, Mindful Centers clinicians or staff may join as guest speakers to share mindfulness-based insights\, but they do not lead or provide clinical treatment within the group. \nRecovery Dharma draws inspiration from Buddhist traditions that originated in India and were carried forward across many Asian cultures. We approach these teachings with respect\, cultural humility\, and gratitude for the communities who preserved and shared this wisdom. \nThose interested in joining must complete a required 20-minute consultation prior to participation. To schedule a consultation\, please click here or call 562-356-8686. You may also email info@mindfulcenters.com.
URL:https://mindfulcenters.com/program/recovery-dharma/2028-11-12/
ORGANIZER;CN="Mindful Centers":MAILTO:info@mindfulcenters.com
END:VEVENT
BEGIN:VEVENT
DTSTART;TZID=America/Los_Angeles:20281117T090000
DTEND;TZID=America/Los_Angeles:20281117T210000
DTSTAMP:20260423T011004
CREATED:20260210T230640Z
LAST-MODIFIED:20260211T005018Z
UID:10002266-1858064400-1858107600@mindfulcenters.com
SUMMARY:Recovery Dharma
DESCRIPTION:Recovery Dharma at Mindful Centers is a peer-led support community for individuals seeking freedom from addiction through mindfulness\, compassion\, and shared experience. Similar to 12-step programs\, Recovery Dharma offers a structured\, community-based approach to recovery that emphasizes personal responsibility\, mutual support\, and ongoing practice. Unlike 12-step models\, Recovery Dharma is non-theistic and rooted in mindfulness and Buddhist-inspired principles rather than a higher-power framework. \nThis group provides a safe\, non-judgmental space where participants support one another as equals\, honoring each person’s unique recovery journey and inner wisdom. The group is peer-to-peer and not a therapy group; it is facilitated by non-professional community members. At times\, Mindful Centers clinicians or staff may join as guest speakers to share mindfulness-based insights\, but they do not lead or provide clinical treatment within the group. \nRecovery Dharma draws inspiration from Buddhist traditions that originated in India and were carried forward across many Asian cultures. We approach these teachings with respect\, cultural humility\, and gratitude for the communities who preserved and shared this wisdom. \nThose interested in joining must complete a required 20-minute consultation prior to participation. To schedule a consultation\, please click here or call 562-356-8686. You may also email info@mindfulcenters.com.
URL:https://mindfulcenters.com/program/recovery-dharma/2028-11-17/
ORGANIZER;CN="Mindful Centers":MAILTO:info@mindfulcenters.com
END:VEVENT
BEGIN:VEVENT
DTSTART;TZID=America/Los_Angeles:20281118T090000
DTEND;TZID=America/Los_Angeles:20281118T210000
DTSTAMP:20260423T011004
CREATED:20260210T230640Z
LAST-MODIFIED:20260211T005018Z
UID:10002267-1858150800-1858194000@mindfulcenters.com
SUMMARY:Recovery Dharma
DESCRIPTION:Recovery Dharma at Mindful Centers is a peer-led support community for individuals seeking freedom from addiction through mindfulness\, compassion\, and shared experience. Similar to 12-step programs\, Recovery Dharma offers a structured\, community-based approach to recovery that emphasizes personal responsibility\, mutual support\, and ongoing practice. Unlike 12-step models\, Recovery Dharma is non-theistic and rooted in mindfulness and Buddhist-inspired principles rather than a higher-power framework. \nThis group provides a safe\, non-judgmental space where participants support one another as equals\, honoring each person’s unique recovery journey and inner wisdom. The group is peer-to-peer and not a therapy group; it is facilitated by non-professional community members. At times\, Mindful Centers clinicians or staff may join as guest speakers to share mindfulness-based insights\, but they do not lead or provide clinical treatment within the group. \nRecovery Dharma draws inspiration from Buddhist traditions that originated in India and were carried forward across many Asian cultures. We approach these teachings with respect\, cultural humility\, and gratitude for the communities who preserved and shared this wisdom. \nThose interested in joining must complete a required 20-minute consultation prior to participation. To schedule a consultation\, please click here or call 562-356-8686. You may also email info@mindfulcenters.com.
URL:https://mindfulcenters.com/program/recovery-dharma/2028-11-18/
ORGANIZER;CN="Mindful Centers":MAILTO:info@mindfulcenters.com
END:VEVENT
BEGIN:VEVENT
DTSTART;TZID=America/Los_Angeles:20281119T090000
DTEND;TZID=America/Los_Angeles:20281119T210000
DTSTAMP:20260423T011004
CREATED:20260210T230640Z
LAST-MODIFIED:20260211T005018Z
UID:10002268-1858237200-1858280400@mindfulcenters.com
SUMMARY:Recovery Dharma
DESCRIPTION:Recovery Dharma at Mindful Centers is a peer-led support community for individuals seeking freedom from addiction through mindfulness\, compassion\, and shared experience. Similar to 12-step programs\, Recovery Dharma offers a structured\, community-based approach to recovery that emphasizes personal responsibility\, mutual support\, and ongoing practice. Unlike 12-step models\, Recovery Dharma is non-theistic and rooted in mindfulness and Buddhist-inspired principles rather than a higher-power framework. \nThis group provides a safe\, non-judgmental space where participants support one another as equals\, honoring each person’s unique recovery journey and inner wisdom. The group is peer-to-peer and not a therapy group; it is facilitated by non-professional community members. At times\, Mindful Centers clinicians or staff may join as guest speakers to share mindfulness-based insights\, but they do not lead or provide clinical treatment within the group. \nRecovery Dharma draws inspiration from Buddhist traditions that originated in India and were carried forward across many Asian cultures. We approach these teachings with respect\, cultural humility\, and gratitude for the communities who preserved and shared this wisdom. \nThose interested in joining must complete a required 20-minute consultation prior to participation. To schedule a consultation\, please click here or call 562-356-8686. You may also email info@mindfulcenters.com.
URL:https://mindfulcenters.com/program/recovery-dharma/2028-11-19/
ORGANIZER;CN="Mindful Centers":MAILTO:info@mindfulcenters.com
END:VEVENT
BEGIN:VEVENT
DTSTART;TZID=America/Los_Angeles:20281124T090000
DTEND;TZID=America/Los_Angeles:20281124T210000
DTSTAMP:20260423T011004
CREATED:20260210T230640Z
LAST-MODIFIED:20260211T005018Z
UID:10002269-1858669200-1858712400@mindfulcenters.com
SUMMARY:Recovery Dharma
DESCRIPTION:Recovery Dharma at Mindful Centers is a peer-led support community for individuals seeking freedom from addiction through mindfulness\, compassion\, and shared experience. Similar to 12-step programs\, Recovery Dharma offers a structured\, community-based approach to recovery that emphasizes personal responsibility\, mutual support\, and ongoing practice. Unlike 12-step models\, Recovery Dharma is non-theistic and rooted in mindfulness and Buddhist-inspired principles rather than a higher-power framework. \nThis group provides a safe\, non-judgmental space where participants support one another as equals\, honoring each person’s unique recovery journey and inner wisdom. The group is peer-to-peer and not a therapy group; it is facilitated by non-professional community members. At times\, Mindful Centers clinicians or staff may join as guest speakers to share mindfulness-based insights\, but they do not lead or provide clinical treatment within the group. \nRecovery Dharma draws inspiration from Buddhist traditions that originated in India and were carried forward across many Asian cultures. We approach these teachings with respect\, cultural humility\, and gratitude for the communities who preserved and shared this wisdom. \nThose interested in joining must complete a required 20-minute consultation prior to participation. To schedule a consultation\, please click here or call 562-356-8686. You may also email info@mindfulcenters.com.
URL:https://mindfulcenters.com/program/recovery-dharma/2028-11-24/
ORGANIZER;CN="Mindful Centers":MAILTO:info@mindfulcenters.com
END:VEVENT
BEGIN:VEVENT
DTSTART;TZID=America/Los_Angeles:20281125T090000
DTEND;TZID=America/Los_Angeles:20281125T210000
DTSTAMP:20260423T011004
CREATED:20260210T230640Z
LAST-MODIFIED:20260211T005018Z
UID:10002270-1858755600-1858798800@mindfulcenters.com
SUMMARY:Recovery Dharma
DESCRIPTION:Recovery Dharma at Mindful Centers is a peer-led support community for individuals seeking freedom from addiction through mindfulness\, compassion\, and shared experience. Similar to 12-step programs\, Recovery Dharma offers a structured\, community-based approach to recovery that emphasizes personal responsibility\, mutual support\, and ongoing practice. Unlike 12-step models\, Recovery Dharma is non-theistic and rooted in mindfulness and Buddhist-inspired principles rather than a higher-power framework. \nThis group provides a safe\, non-judgmental space where participants support one another as equals\, honoring each person’s unique recovery journey and inner wisdom. The group is peer-to-peer and not a therapy group; it is facilitated by non-professional community members. At times\, Mindful Centers clinicians or staff may join as guest speakers to share mindfulness-based insights\, but they do not lead or provide clinical treatment within the group. \nRecovery Dharma draws inspiration from Buddhist traditions that originated in India and were carried forward across many Asian cultures. We approach these teachings with respect\, cultural humility\, and gratitude for the communities who preserved and shared this wisdom. \nThose interested in joining must complete a required 20-minute consultation prior to participation. To schedule a consultation\, please click here or call 562-356-8686. You may also email info@mindfulcenters.com.
URL:https://mindfulcenters.com/program/recovery-dharma/2028-11-25/
ORGANIZER;CN="Mindful Centers":MAILTO:info@mindfulcenters.com
END:VEVENT
BEGIN:VEVENT
DTSTART;TZID=America/Los_Angeles:20281126T090000
DTEND;TZID=America/Los_Angeles:20281126T210000
DTSTAMP:20260423T011004
CREATED:20260210T230640Z
LAST-MODIFIED:20260211T005018Z
UID:10002271-1858842000-1858885200@mindfulcenters.com
SUMMARY:Recovery Dharma
DESCRIPTION:Recovery Dharma at Mindful Centers is a peer-led support community for individuals seeking freedom from addiction through mindfulness\, compassion\, and shared experience. Similar to 12-step programs\, Recovery Dharma offers a structured\, community-based approach to recovery that emphasizes personal responsibility\, mutual support\, and ongoing practice. Unlike 12-step models\, Recovery Dharma is non-theistic and rooted in mindfulness and Buddhist-inspired principles rather than a higher-power framework. \nThis group provides a safe\, non-judgmental space where participants support one another as equals\, honoring each person’s unique recovery journey and inner wisdom. The group is peer-to-peer and not a therapy group; it is facilitated by non-professional community members. At times\, Mindful Centers clinicians or staff may join as guest speakers to share mindfulness-based insights\, but they do not lead or provide clinical treatment within the group. \nRecovery Dharma draws inspiration from Buddhist traditions that originated in India and were carried forward across many Asian cultures. We approach these teachings with respect\, cultural humility\, and gratitude for the communities who preserved and shared this wisdom. \nThose interested in joining must complete a required 20-minute consultation prior to participation. To schedule a consultation\, please click here or call 562-356-8686. You may also email info@mindfulcenters.com.
URL:https://mindfulcenters.com/program/recovery-dharma/2028-11-26/
ORGANIZER;CN="Mindful Centers":MAILTO:info@mindfulcenters.com
END:VEVENT
END:VCALENDAR