BEGIN:VCALENDAR
VERSION:2.0
PRODID:-//Mindful Centers - ECPv6.15.20//NONSGML v1.0//EN
CALSCALE:GREGORIAN
METHOD:PUBLISH
X-WR-CALNAME:Mindful Centers
X-ORIGINAL-URL:https://mindfulcenters.com
X-WR-CALDESC:Events for Mindful Centers
REFRESH-INTERVAL;VALUE=DURATION:PT1H
X-Robots-Tag:noindex
X-PUBLISHED-TTL:PT1H
BEGIN:VTIMEZONE
TZID:America/Los_Angeles
BEGIN:DAYLIGHT
TZOFFSETFROM:-0800
TZOFFSETTO:-0700
TZNAME:PDT
DTSTART:20270314T100000
END:DAYLIGHT
BEGIN:STANDARD
TZOFFSETFROM:-0700
TZOFFSETTO:-0800
TZNAME:PST
DTSTART:20271107T090000
END:STANDARD
BEGIN:DAYLIGHT
TZOFFSETFROM:-0800
TZOFFSETTO:-0700
TZNAME:PDT
DTSTART:20280312T100000
END:DAYLIGHT
BEGIN:STANDARD
TZOFFSETFROM:-0700
TZOFFSETTO:-0800
TZNAME:PST
DTSTART:20281105T090000
END:STANDARD
BEGIN:DAYLIGHT
TZOFFSETFROM:-0800
TZOFFSETTO:-0700
TZNAME:PDT
DTSTART:20290311T100000
END:DAYLIGHT
BEGIN:STANDARD
TZOFFSETFROM:-0700
TZOFFSETTO:-0800
TZNAME:PST
DTSTART:20291104T090000
END:STANDARD
END:VTIMEZONE
BEGIN:VEVENT
DTSTART;TZID=America/Los_Angeles:20280701T090000
DTEND;TZID=America/Los_Angeles:20280701T210000
DTSTAMP:20260422T182212
CREATED:20260210T230640Z
LAST-MODIFIED:20260211T005018Z
UID:10002207-1846054800-1846098000@mindfulcenters.com
SUMMARY:Recovery Dharma
DESCRIPTION:Recovery Dharma at Mindful Centers is a peer-led support community for individuals seeking freedom from addiction through mindfulness\, compassion\, and shared experience. Similar to 12-step programs\, Recovery Dharma offers a structured\, community-based approach to recovery that emphasizes personal responsibility\, mutual support\, and ongoing practice. Unlike 12-step models\, Recovery Dharma is non-theistic and rooted in mindfulness and Buddhist-inspired principles rather than a higher-power framework. \nThis group provides a safe\, non-judgmental space where participants support one another as equals\, honoring each person’s unique recovery journey and inner wisdom. The group is peer-to-peer and not a therapy group; it is facilitated by non-professional community members. At times\, Mindful Centers clinicians or staff may join as guest speakers to share mindfulness-based insights\, but they do not lead or provide clinical treatment within the group. \nRecovery Dharma draws inspiration from Buddhist traditions that originated in India and were carried forward across many Asian cultures. We approach these teachings with respect\, cultural humility\, and gratitude for the communities who preserved and shared this wisdom. \nThose interested in joining must complete a required 20-minute consultation prior to participation. To schedule a consultation\, please click here or call 562-356-8686. You may also email info@mindfulcenters.com.
URL:https://mindfulcenters.com/program/recovery-dharma/2028-07-01/
ORGANIZER;CN="Mindful Centers":MAILTO:info@mindfulcenters.com
END:VEVENT
BEGIN:VEVENT
DTSTART;TZID=America/Los_Angeles:20280702T090000
DTEND;TZID=America/Los_Angeles:20280702T210000
DTSTAMP:20260422T182212
CREATED:20260210T230640Z
LAST-MODIFIED:20260211T005018Z
UID:10002208-1846141200-1846184400@mindfulcenters.com
SUMMARY:Recovery Dharma
DESCRIPTION:Recovery Dharma at Mindful Centers is a peer-led support community for individuals seeking freedom from addiction through mindfulness\, compassion\, and shared experience. Similar to 12-step programs\, Recovery Dharma offers a structured\, community-based approach to recovery that emphasizes personal responsibility\, mutual support\, and ongoing practice. Unlike 12-step models\, Recovery Dharma is non-theistic and rooted in mindfulness and Buddhist-inspired principles rather than a higher-power framework. \nThis group provides a safe\, non-judgmental space where participants support one another as equals\, honoring each person’s unique recovery journey and inner wisdom. The group is peer-to-peer and not a therapy group; it is facilitated by non-professional community members. At times\, Mindful Centers clinicians or staff may join as guest speakers to share mindfulness-based insights\, but they do not lead or provide clinical treatment within the group. \nRecovery Dharma draws inspiration from Buddhist traditions that originated in India and were carried forward across many Asian cultures. We approach these teachings with respect\, cultural humility\, and gratitude for the communities who preserved and shared this wisdom. \nThose interested in joining must complete a required 20-minute consultation prior to participation. To schedule a consultation\, please click here or call 562-356-8686. You may also email info@mindfulcenters.com.
URL:https://mindfulcenters.com/program/recovery-dharma/2028-07-02/
ORGANIZER;CN="Mindful Centers":MAILTO:info@mindfulcenters.com
END:VEVENT
BEGIN:VEVENT
DTSTART;TZID=America/Los_Angeles:20280707T090000
DTEND;TZID=America/Los_Angeles:20280707T210000
DTSTAMP:20260422T182212
CREATED:20260210T230640Z
LAST-MODIFIED:20260211T005018Z
UID:10002209-1846573200-1846616400@mindfulcenters.com
SUMMARY:Recovery Dharma
DESCRIPTION:Recovery Dharma at Mindful Centers is a peer-led support community for individuals seeking freedom from addiction through mindfulness\, compassion\, and shared experience. Similar to 12-step programs\, Recovery Dharma offers a structured\, community-based approach to recovery that emphasizes personal responsibility\, mutual support\, and ongoing practice. Unlike 12-step models\, Recovery Dharma is non-theistic and rooted in mindfulness and Buddhist-inspired principles rather than a higher-power framework. \nThis group provides a safe\, non-judgmental space where participants support one another as equals\, honoring each person’s unique recovery journey and inner wisdom. The group is peer-to-peer and not a therapy group; it is facilitated by non-professional community members. At times\, Mindful Centers clinicians or staff may join as guest speakers to share mindfulness-based insights\, but they do not lead or provide clinical treatment within the group. \nRecovery Dharma draws inspiration from Buddhist traditions that originated in India and were carried forward across many Asian cultures. We approach these teachings with respect\, cultural humility\, and gratitude for the communities who preserved and shared this wisdom. \nThose interested in joining must complete a required 20-minute consultation prior to participation. To schedule a consultation\, please click here or call 562-356-8686. You may also email info@mindfulcenters.com.
URL:https://mindfulcenters.com/program/recovery-dharma/2028-07-07/
ORGANIZER;CN="Mindful Centers":MAILTO:info@mindfulcenters.com
END:VEVENT
BEGIN:VEVENT
DTSTART;TZID=America/Los_Angeles:20280708T090000
DTEND;TZID=America/Los_Angeles:20280708T210000
DTSTAMP:20260422T182212
CREATED:20260210T230640Z
LAST-MODIFIED:20260211T005018Z
UID:10002210-1846659600-1846702800@mindfulcenters.com
SUMMARY:Recovery Dharma
DESCRIPTION:Recovery Dharma at Mindful Centers is a peer-led support community for individuals seeking freedom from addiction through mindfulness\, compassion\, and shared experience. Similar to 12-step programs\, Recovery Dharma offers a structured\, community-based approach to recovery that emphasizes personal responsibility\, mutual support\, and ongoing practice. Unlike 12-step models\, Recovery Dharma is non-theistic and rooted in mindfulness and Buddhist-inspired principles rather than a higher-power framework. \nThis group provides a safe\, non-judgmental space where participants support one another as equals\, honoring each person’s unique recovery journey and inner wisdom. The group is peer-to-peer and not a therapy group; it is facilitated by non-professional community members. At times\, Mindful Centers clinicians or staff may join as guest speakers to share mindfulness-based insights\, but they do not lead or provide clinical treatment within the group. \nRecovery Dharma draws inspiration from Buddhist traditions that originated in India and were carried forward across many Asian cultures. We approach these teachings with respect\, cultural humility\, and gratitude for the communities who preserved and shared this wisdom. \nThose interested in joining must complete a required 20-minute consultation prior to participation. To schedule a consultation\, please click here or call 562-356-8686. You may also email info@mindfulcenters.com.
URL:https://mindfulcenters.com/program/recovery-dharma/2028-07-08/
ORGANIZER;CN="Mindful Centers":MAILTO:info@mindfulcenters.com
END:VEVENT
BEGIN:VEVENT
DTSTART;TZID=America/Los_Angeles:20280709T090000
DTEND;TZID=America/Los_Angeles:20280709T210000
DTSTAMP:20260422T182212
CREATED:20260210T230640Z
LAST-MODIFIED:20260211T005018Z
UID:10002211-1846746000-1846789200@mindfulcenters.com
SUMMARY:Recovery Dharma
DESCRIPTION:Recovery Dharma at Mindful Centers is a peer-led support community for individuals seeking freedom from addiction through mindfulness\, compassion\, and shared experience. Similar to 12-step programs\, Recovery Dharma offers a structured\, community-based approach to recovery that emphasizes personal responsibility\, mutual support\, and ongoing practice. Unlike 12-step models\, Recovery Dharma is non-theistic and rooted in mindfulness and Buddhist-inspired principles rather than a higher-power framework. \nThis group provides a safe\, non-judgmental space where participants support one another as equals\, honoring each person’s unique recovery journey and inner wisdom. The group is peer-to-peer and not a therapy group; it is facilitated by non-professional community members. At times\, Mindful Centers clinicians or staff may join as guest speakers to share mindfulness-based insights\, but they do not lead or provide clinical treatment within the group. \nRecovery Dharma draws inspiration from Buddhist traditions that originated in India and were carried forward across many Asian cultures. We approach these teachings with respect\, cultural humility\, and gratitude for the communities who preserved and shared this wisdom. \nThose interested in joining must complete a required 20-minute consultation prior to participation. To schedule a consultation\, please click here or call 562-356-8686. You may also email info@mindfulcenters.com.
URL:https://mindfulcenters.com/program/recovery-dharma/2028-07-09/
ORGANIZER;CN="Mindful Centers":MAILTO:info@mindfulcenters.com
END:VEVENT
BEGIN:VEVENT
DTSTART;TZID=America/Los_Angeles:20280714T090000
DTEND;TZID=America/Los_Angeles:20280714T210000
DTSTAMP:20260422T182212
CREATED:20260210T230640Z
LAST-MODIFIED:20260211T005018Z
UID:10002212-1847178000-1847221200@mindfulcenters.com
SUMMARY:Recovery Dharma
DESCRIPTION:Recovery Dharma at Mindful Centers is a peer-led support community for individuals seeking freedom from addiction through mindfulness\, compassion\, and shared experience. Similar to 12-step programs\, Recovery Dharma offers a structured\, community-based approach to recovery that emphasizes personal responsibility\, mutual support\, and ongoing practice. Unlike 12-step models\, Recovery Dharma is non-theistic and rooted in mindfulness and Buddhist-inspired principles rather than a higher-power framework. \nThis group provides a safe\, non-judgmental space where participants support one another as equals\, honoring each person’s unique recovery journey and inner wisdom. The group is peer-to-peer and not a therapy group; it is facilitated by non-professional community members. At times\, Mindful Centers clinicians or staff may join as guest speakers to share mindfulness-based insights\, but they do not lead or provide clinical treatment within the group. \nRecovery Dharma draws inspiration from Buddhist traditions that originated in India and were carried forward across many Asian cultures. We approach these teachings with respect\, cultural humility\, and gratitude for the communities who preserved and shared this wisdom. \nThose interested in joining must complete a required 20-minute consultation prior to participation. To schedule a consultation\, please click here or call 562-356-8686. You may also email info@mindfulcenters.com.
URL:https://mindfulcenters.com/program/recovery-dharma/2028-07-14/
ORGANIZER;CN="Mindful Centers":MAILTO:info@mindfulcenters.com
END:VEVENT
BEGIN:VEVENT
DTSTART;TZID=America/Los_Angeles:20280715T090000
DTEND;TZID=America/Los_Angeles:20280715T210000
DTSTAMP:20260422T182212
CREATED:20260210T230640Z
LAST-MODIFIED:20260211T005018Z
UID:10002213-1847264400-1847307600@mindfulcenters.com
SUMMARY:Recovery Dharma
DESCRIPTION:Recovery Dharma at Mindful Centers is a peer-led support community for individuals seeking freedom from addiction through mindfulness\, compassion\, and shared experience. Similar to 12-step programs\, Recovery Dharma offers a structured\, community-based approach to recovery that emphasizes personal responsibility\, mutual support\, and ongoing practice. Unlike 12-step models\, Recovery Dharma is non-theistic and rooted in mindfulness and Buddhist-inspired principles rather than a higher-power framework. \nThis group provides a safe\, non-judgmental space where participants support one another as equals\, honoring each person’s unique recovery journey and inner wisdom. The group is peer-to-peer and not a therapy group; it is facilitated by non-professional community members. At times\, Mindful Centers clinicians or staff may join as guest speakers to share mindfulness-based insights\, but they do not lead or provide clinical treatment within the group. \nRecovery Dharma draws inspiration from Buddhist traditions that originated in India and were carried forward across many Asian cultures. We approach these teachings with respect\, cultural humility\, and gratitude for the communities who preserved and shared this wisdom. \nThose interested in joining must complete a required 20-minute consultation prior to participation. To schedule a consultation\, please click here or call 562-356-8686. You may also email info@mindfulcenters.com.
URL:https://mindfulcenters.com/program/recovery-dharma/2028-07-15/
ORGANIZER;CN="Mindful Centers":MAILTO:info@mindfulcenters.com
END:VEVENT
BEGIN:VEVENT
DTSTART;TZID=America/Los_Angeles:20280716T090000
DTEND;TZID=America/Los_Angeles:20280716T210000
DTSTAMP:20260422T182212
CREATED:20260210T230640Z
LAST-MODIFIED:20260211T005018Z
UID:10002214-1847350800-1847394000@mindfulcenters.com
SUMMARY:Recovery Dharma
DESCRIPTION:Recovery Dharma at Mindful Centers is a peer-led support community for individuals seeking freedom from addiction through mindfulness\, compassion\, and shared experience. Similar to 12-step programs\, Recovery Dharma offers a structured\, community-based approach to recovery that emphasizes personal responsibility\, mutual support\, and ongoing practice. Unlike 12-step models\, Recovery Dharma is non-theistic and rooted in mindfulness and Buddhist-inspired principles rather than a higher-power framework. \nThis group provides a safe\, non-judgmental space where participants support one another as equals\, honoring each person’s unique recovery journey and inner wisdom. The group is peer-to-peer and not a therapy group; it is facilitated by non-professional community members. At times\, Mindful Centers clinicians or staff may join as guest speakers to share mindfulness-based insights\, but they do not lead or provide clinical treatment within the group. \nRecovery Dharma draws inspiration from Buddhist traditions that originated in India and were carried forward across many Asian cultures. We approach these teachings with respect\, cultural humility\, and gratitude for the communities who preserved and shared this wisdom. \nThose interested in joining must complete a required 20-minute consultation prior to participation. To schedule a consultation\, please click here or call 562-356-8686. You may also email info@mindfulcenters.com.
URL:https://mindfulcenters.com/program/recovery-dharma/2028-07-16/
ORGANIZER;CN="Mindful Centers":MAILTO:info@mindfulcenters.com
END:VEVENT
BEGIN:VEVENT
DTSTART;TZID=America/Los_Angeles:20280721T090000
DTEND;TZID=America/Los_Angeles:20280721T210000
DTSTAMP:20260422T182212
CREATED:20260210T230640Z
LAST-MODIFIED:20260211T005018Z
UID:10002215-1847782800-1847826000@mindfulcenters.com
SUMMARY:Recovery Dharma
DESCRIPTION:Recovery Dharma at Mindful Centers is a peer-led support community for individuals seeking freedom from addiction through mindfulness\, compassion\, and shared experience. Similar to 12-step programs\, Recovery Dharma offers a structured\, community-based approach to recovery that emphasizes personal responsibility\, mutual support\, and ongoing practice. Unlike 12-step models\, Recovery Dharma is non-theistic and rooted in mindfulness and Buddhist-inspired principles rather than a higher-power framework. \nThis group provides a safe\, non-judgmental space where participants support one another as equals\, honoring each person’s unique recovery journey and inner wisdom. The group is peer-to-peer and not a therapy group; it is facilitated by non-professional community members. At times\, Mindful Centers clinicians or staff may join as guest speakers to share mindfulness-based insights\, but they do not lead or provide clinical treatment within the group. \nRecovery Dharma draws inspiration from Buddhist traditions that originated in India and were carried forward across many Asian cultures. We approach these teachings with respect\, cultural humility\, and gratitude for the communities who preserved and shared this wisdom. \nThose interested in joining must complete a required 20-minute consultation prior to participation. To schedule a consultation\, please click here or call 562-356-8686. You may also email info@mindfulcenters.com.
URL:https://mindfulcenters.com/program/recovery-dharma/2028-07-21/
ORGANIZER;CN="Mindful Centers":MAILTO:info@mindfulcenters.com
END:VEVENT
BEGIN:VEVENT
DTSTART;TZID=America/Los_Angeles:20280722T090000
DTEND;TZID=America/Los_Angeles:20280722T210000
DTSTAMP:20260422T182212
CREATED:20260210T230640Z
LAST-MODIFIED:20260211T005018Z
UID:10002216-1847869200-1847912400@mindfulcenters.com
SUMMARY:Recovery Dharma
DESCRIPTION:Recovery Dharma at Mindful Centers is a peer-led support community for individuals seeking freedom from addiction through mindfulness\, compassion\, and shared experience. Similar to 12-step programs\, Recovery Dharma offers a structured\, community-based approach to recovery that emphasizes personal responsibility\, mutual support\, and ongoing practice. Unlike 12-step models\, Recovery Dharma is non-theistic and rooted in mindfulness and Buddhist-inspired principles rather than a higher-power framework. \nThis group provides a safe\, non-judgmental space where participants support one another as equals\, honoring each person’s unique recovery journey and inner wisdom. The group is peer-to-peer and not a therapy group; it is facilitated by non-professional community members. At times\, Mindful Centers clinicians or staff may join as guest speakers to share mindfulness-based insights\, but they do not lead or provide clinical treatment within the group. \nRecovery Dharma draws inspiration from Buddhist traditions that originated in India and were carried forward across many Asian cultures. We approach these teachings with respect\, cultural humility\, and gratitude for the communities who preserved and shared this wisdom. \nThose interested in joining must complete a required 20-minute consultation prior to participation. To schedule a consultation\, please click here or call 562-356-8686. You may also email info@mindfulcenters.com.
URL:https://mindfulcenters.com/program/recovery-dharma/2028-07-22/
ORGANIZER;CN="Mindful Centers":MAILTO:info@mindfulcenters.com
END:VEVENT
BEGIN:VEVENT
DTSTART;TZID=America/Los_Angeles:20280723T090000
DTEND;TZID=America/Los_Angeles:20280723T210000
DTSTAMP:20260422T182212
CREATED:20260210T230640Z
LAST-MODIFIED:20260211T005018Z
UID:10002217-1847955600-1847998800@mindfulcenters.com
SUMMARY:Recovery Dharma
DESCRIPTION:Recovery Dharma at Mindful Centers is a peer-led support community for individuals seeking freedom from addiction through mindfulness\, compassion\, and shared experience. Similar to 12-step programs\, Recovery Dharma offers a structured\, community-based approach to recovery that emphasizes personal responsibility\, mutual support\, and ongoing practice. Unlike 12-step models\, Recovery Dharma is non-theistic and rooted in mindfulness and Buddhist-inspired principles rather than a higher-power framework. \nThis group provides a safe\, non-judgmental space where participants support one another as equals\, honoring each person’s unique recovery journey and inner wisdom. The group is peer-to-peer and not a therapy group; it is facilitated by non-professional community members. At times\, Mindful Centers clinicians or staff may join as guest speakers to share mindfulness-based insights\, but they do not lead or provide clinical treatment within the group. \nRecovery Dharma draws inspiration from Buddhist traditions that originated in India and were carried forward across many Asian cultures. We approach these teachings with respect\, cultural humility\, and gratitude for the communities who preserved and shared this wisdom. \nThose interested in joining must complete a required 20-minute consultation prior to participation. To schedule a consultation\, please click here or call 562-356-8686. You may also email info@mindfulcenters.com.
URL:https://mindfulcenters.com/program/recovery-dharma/2028-07-23/
ORGANIZER;CN="Mindful Centers":MAILTO:info@mindfulcenters.com
END:VEVENT
BEGIN:VEVENT
DTSTART;TZID=America/Los_Angeles:20280728T090000
DTEND;TZID=America/Los_Angeles:20280728T210000
DTSTAMP:20260422T182212
CREATED:20260210T230640Z
LAST-MODIFIED:20260211T005018Z
UID:10002218-1848387600-1848430800@mindfulcenters.com
SUMMARY:Recovery Dharma
DESCRIPTION:Recovery Dharma at Mindful Centers is a peer-led support community for individuals seeking freedom from addiction through mindfulness\, compassion\, and shared experience. Similar to 12-step programs\, Recovery Dharma offers a structured\, community-based approach to recovery that emphasizes personal responsibility\, mutual support\, and ongoing practice. Unlike 12-step models\, Recovery Dharma is non-theistic and rooted in mindfulness and Buddhist-inspired principles rather than a higher-power framework. \nThis group provides a safe\, non-judgmental space where participants support one another as equals\, honoring each person’s unique recovery journey and inner wisdom. The group is peer-to-peer and not a therapy group; it is facilitated by non-professional community members. At times\, Mindful Centers clinicians or staff may join as guest speakers to share mindfulness-based insights\, but they do not lead or provide clinical treatment within the group. \nRecovery Dharma draws inspiration from Buddhist traditions that originated in India and were carried forward across many Asian cultures. We approach these teachings with respect\, cultural humility\, and gratitude for the communities who preserved and shared this wisdom. \nThose interested in joining must complete a required 20-minute consultation prior to participation. To schedule a consultation\, please click here or call 562-356-8686. You may also email info@mindfulcenters.com.
URL:https://mindfulcenters.com/program/recovery-dharma/2028-07-28/
ORGANIZER;CN="Mindful Centers":MAILTO:info@mindfulcenters.com
END:VEVENT
BEGIN:VEVENT
DTSTART;TZID=America/Los_Angeles:20280729T090000
DTEND;TZID=America/Los_Angeles:20280729T210000
DTSTAMP:20260422T182212
CREATED:20260210T230640Z
LAST-MODIFIED:20260211T005018Z
UID:10002219-1848474000-1848517200@mindfulcenters.com
SUMMARY:Recovery Dharma
DESCRIPTION:Recovery Dharma at Mindful Centers is a peer-led support community for individuals seeking freedom from addiction through mindfulness\, compassion\, and shared experience. Similar to 12-step programs\, Recovery Dharma offers a structured\, community-based approach to recovery that emphasizes personal responsibility\, mutual support\, and ongoing practice. Unlike 12-step models\, Recovery Dharma is non-theistic and rooted in mindfulness and Buddhist-inspired principles rather than a higher-power framework. \nThis group provides a safe\, non-judgmental space where participants support one another as equals\, honoring each person’s unique recovery journey and inner wisdom. The group is peer-to-peer and not a therapy group; it is facilitated by non-professional community members. At times\, Mindful Centers clinicians or staff may join as guest speakers to share mindfulness-based insights\, but they do not lead or provide clinical treatment within the group. \nRecovery Dharma draws inspiration from Buddhist traditions that originated in India and were carried forward across many Asian cultures. We approach these teachings with respect\, cultural humility\, and gratitude for the communities who preserved and shared this wisdom. \nThose interested in joining must complete a required 20-minute consultation prior to participation. To schedule a consultation\, please click here or call 562-356-8686. You may also email info@mindfulcenters.com.
URL:https://mindfulcenters.com/program/recovery-dharma/2028-07-29/
ORGANIZER;CN="Mindful Centers":MAILTO:info@mindfulcenters.com
END:VEVENT
BEGIN:VEVENT
DTSTART;TZID=America/Los_Angeles:20280730T090000
DTEND;TZID=America/Los_Angeles:20280730T210000
DTSTAMP:20260422T182212
CREATED:20260210T230640Z
LAST-MODIFIED:20260211T005018Z
UID:10002220-1848560400-1848603600@mindfulcenters.com
SUMMARY:Recovery Dharma
DESCRIPTION:Recovery Dharma at Mindful Centers is a peer-led support community for individuals seeking freedom from addiction through mindfulness\, compassion\, and shared experience. Similar to 12-step programs\, Recovery Dharma offers a structured\, community-based approach to recovery that emphasizes personal responsibility\, mutual support\, and ongoing practice. Unlike 12-step models\, Recovery Dharma is non-theistic and rooted in mindfulness and Buddhist-inspired principles rather than a higher-power framework. \nThis group provides a safe\, non-judgmental space where participants support one another as equals\, honoring each person’s unique recovery journey and inner wisdom. The group is peer-to-peer and not a therapy group; it is facilitated by non-professional community members. At times\, Mindful Centers clinicians or staff may join as guest speakers to share mindfulness-based insights\, but they do not lead or provide clinical treatment within the group. \nRecovery Dharma draws inspiration from Buddhist traditions that originated in India and were carried forward across many Asian cultures. We approach these teachings with respect\, cultural humility\, and gratitude for the communities who preserved and shared this wisdom. \nThose interested in joining must complete a required 20-minute consultation prior to participation. To schedule a consultation\, please click here or call 562-356-8686. You may also email info@mindfulcenters.com.
URL:https://mindfulcenters.com/program/recovery-dharma/2028-07-30/
ORGANIZER;CN="Mindful Centers":MAILTO:info@mindfulcenters.com
END:VEVENT
END:VCALENDAR