BEGIN:VCALENDAR
VERSION:2.0
PRODID:-//Mindful Centers - ECPv6.15.20//NONSGML v1.0//EN
CALSCALE:GREGORIAN
METHOD:PUBLISH
X-ORIGINAL-URL:https://mindfulcenters.com
X-WR-CALDESC:Events for Mindful Centers
REFRESH-INTERVAL;VALUE=DURATION:PT1H
X-Robots-Tag:noindex
X-PUBLISHED-TTL:PT1H
BEGIN:VTIMEZONE
TZID:America/Los_Angeles
BEGIN:DAYLIGHT
TZOFFSETFROM:-0800
TZOFFSETTO:-0700
TZNAME:PDT
DTSTART:20300310T100000
END:DAYLIGHT
BEGIN:STANDARD
TZOFFSETFROM:-0700
TZOFFSETTO:-0800
TZNAME:PST
DTSTART:20301103T090000
END:STANDARD
BEGIN:DAYLIGHT
TZOFFSETFROM:-0800
TZOFFSETTO:-0700
TZNAME:PDT
DTSTART:20310309T100000
END:DAYLIGHT
BEGIN:STANDARD
TZOFFSETFROM:-0700
TZOFFSETTO:-0800
TZNAME:PST
DTSTART:20311102T090000
END:STANDARD
BEGIN:DAYLIGHT
TZOFFSETFROM:-0800
TZOFFSETTO:-0700
TZNAME:PDT
DTSTART:20320314T100000
END:DAYLIGHT
BEGIN:STANDARD
TZOFFSETFROM:-0700
TZOFFSETTO:-0800
TZNAME:PST
DTSTART:20321107T090000
END:STANDARD
END:VTIMEZONE
BEGIN:VEVENT
DTSTART;TZID=America/Los_Angeles:20310303T163000
DTEND;TZID=America/Los_Angeles:20310303T183000
DTSTAMP:20260421T045812
CREATED:20260210T224632Z
LAST-MODIFIED:20260411T155706Z
UID:10002899-1930321800-1930329000@mindfulcenters.com
SUMMARY:Monday Betrayal Partners Group Therapy Session for Women
DESCRIPTION:The Betrayal Partners Group is a confidential\, therapist-led process group for women who have experienced betrayal by a partner impacted with sex or porn addiction. Aligned with Mindful Centers’ mindfulness-based\, evidence-informed approach\, this group provides a safe\, validating space to process betrayal trauma\, restore emotional stability\, and reconnect with one’s sense of self. \nThrough mindful discussion\, psychoeducation\, and peer support\, participants are supported in understanding betrayal trauma\, reducing shame and self-blame\, strengthening emotional regulation\, and developing healthy boundaries and self-care practices. \nThis group is exclusive to active Mindful Centers clients. Those interested in joining must complete a required 20-minute consultation prior to participation. To schedule a consultation\, please click here or call 562-356-8686. You may also email info@mindfulcenters.com. \nThis group is appropriate for individuals seeking structured therapeutic support for betrayal trauma recovery\, emotional healing\, and long-term empowerment\, and is designed to complement the Monday Men’s Group by supporting partners on their own healing path. \n** For active clients please complete the form below to receive password for zoom link.** \nWhich group therapy session will you be joining? *Monday Men's GroupWednesday Men's GroupMonday Partner GroupFirst Name *Last Name *Email Address *Request Password
URL:https://mindfulcenters.com/program/monday-betrayal-partners-group-therapy-session-for-women/2031-03-03/
ORGANIZER;CN="Mindful Centers":MAILTO:info@mindfulcenters.com
LOCATION:https://mindfulcenters.com/program/monday-betrayal-partners-group-therapy-session-for-women/2031-03-03/
END:VEVENT
BEGIN:VEVENT
DTSTART;TZID=America/Los_Angeles:20310305T190000
DTEND;TZID=America/Los_Angeles:20310305T203000
DTSTAMP:20260421T045812
CREATED:20260210T225339Z
LAST-MODIFIED:20260411T155830Z
UID:10002891-1930503600-1930509000@mindfulcenters.com
SUMMARY:Meditation Drop-In Group
DESCRIPTION:A gentle\, supportive meditation group for individuals impacted by sexual addiction or betrayal trauma. Rooted in compassion and mindfulness\, this offering provides a safe\, non-judgmental space to calm the nervous system\, reconnect with yourself\, and support your healing journey alongside others who understand. The group is facilitated by Darrin Ford and other licensed therapists from Mindful Centers. While led by mental health professionals\, this is a meditation-based support group and not a therapy group. Participation is free for current Mindful Centers clients. Individuals who are not current clients may join through a $50 monthly subscription. \nThose interested in joining must complete a required 20-minute consultation prior to participation. To schedule a consultation\, please click here or call 562-356-8686. You may also email info@mindfulcenters.com.
URL:https://mindfulcenters.com/program/meditation-drop-in-group/2031-03-05/
LOCATION:https://us06web.zoom.us/j/82692059975
END:VEVENT
BEGIN:VEVENT
DTSTART;TZID=America/Los_Angeles:20310310T163000
DTEND;TZID=America/Los_Angeles:20310310T183000
DTSTAMP:20260421T045812
CREATED:20260210T224632Z
LAST-MODIFIED:20260411T155706Z
UID:10002900-1930926600-1930933800@mindfulcenters.com
SUMMARY:Monday Betrayal Partners Group Therapy Session for Women
DESCRIPTION:The Betrayal Partners Group is a confidential\, therapist-led process group for women who have experienced betrayal by a partner impacted with sex or porn addiction. Aligned with Mindful Centers’ mindfulness-based\, evidence-informed approach\, this group provides a safe\, validating space to process betrayal trauma\, restore emotional stability\, and reconnect with one’s sense of self. \nThrough mindful discussion\, psychoeducation\, and peer support\, participants are supported in understanding betrayal trauma\, reducing shame and self-blame\, strengthening emotional regulation\, and developing healthy boundaries and self-care practices. \nThis group is exclusive to active Mindful Centers clients. Those interested in joining must complete a required 20-minute consultation prior to participation. To schedule a consultation\, please click here or call 562-356-8686. You may also email info@mindfulcenters.com. \nThis group is appropriate for individuals seeking structured therapeutic support for betrayal trauma recovery\, emotional healing\, and long-term empowerment\, and is designed to complement the Monday Men’s Group by supporting partners on their own healing path. \n** For active clients please complete the form below to receive password for zoom link.** \nWhich group therapy session will you be joining? *Monday Men's GroupWednesday Men's GroupMonday Partner GroupFirst Name *Last Name *Email Address *Request Password
URL:https://mindfulcenters.com/program/monday-betrayal-partners-group-therapy-session-for-women/2031-03-10/
ORGANIZER;CN="Mindful Centers":MAILTO:info@mindfulcenters.com
LOCATION:https://mindfulcenters.com/program/monday-betrayal-partners-group-therapy-session-for-women/2031-03-10/
END:VEVENT
BEGIN:VEVENT
DTSTART;TZID=America/Los_Angeles:20310312T190000
DTEND;TZID=America/Los_Angeles:20310312T203000
DTSTAMP:20260421T045812
CREATED:20260210T225339Z
LAST-MODIFIED:20260411T155830Z
UID:10002892-1931108400-1931113800@mindfulcenters.com
SUMMARY:Meditation Drop-In Group
DESCRIPTION:A gentle\, supportive meditation group for individuals impacted by sexual addiction or betrayal trauma. Rooted in compassion and mindfulness\, this offering provides a safe\, non-judgmental space to calm the nervous system\, reconnect with yourself\, and support your healing journey alongside others who understand. The group is facilitated by Darrin Ford and other licensed therapists from Mindful Centers. While led by mental health professionals\, this is a meditation-based support group and not a therapy group. Participation is free for current Mindful Centers clients. Individuals who are not current clients may join through a $50 monthly subscription. \nThose interested in joining must complete a required 20-minute consultation prior to participation. To schedule a consultation\, please click here or call 562-356-8686. You may also email info@mindfulcenters.com.
URL:https://mindfulcenters.com/program/meditation-drop-in-group/2031-03-12/
LOCATION:https://us06web.zoom.us/j/82692059975
END:VEVENT
BEGIN:VEVENT
DTSTART;TZID=America/Los_Angeles:20310317T163000
DTEND;TZID=America/Los_Angeles:20310317T183000
DTSTAMP:20260421T045812
CREATED:20260210T224632Z
LAST-MODIFIED:20260411T155706Z
UID:10002901-1931531400-1931538600@mindfulcenters.com
SUMMARY:Monday Betrayal Partners Group Therapy Session for Women
DESCRIPTION:The Betrayal Partners Group is a confidential\, therapist-led process group for women who have experienced betrayal by a partner impacted with sex or porn addiction. Aligned with Mindful Centers’ mindfulness-based\, evidence-informed approach\, this group provides a safe\, validating space to process betrayal trauma\, restore emotional stability\, and reconnect with one’s sense of self. \nThrough mindful discussion\, psychoeducation\, and peer support\, participants are supported in understanding betrayal trauma\, reducing shame and self-blame\, strengthening emotional regulation\, and developing healthy boundaries and self-care practices. \nThis group is exclusive to active Mindful Centers clients. Those interested in joining must complete a required 20-minute consultation prior to participation. To schedule a consultation\, please click here or call 562-356-8686. You may also email info@mindfulcenters.com. \nThis group is appropriate for individuals seeking structured therapeutic support for betrayal trauma recovery\, emotional healing\, and long-term empowerment\, and is designed to complement the Monday Men’s Group by supporting partners on their own healing path. \n** For active clients please complete the form below to receive password for zoom link.** \nWhich group therapy session will you be joining? *Monday Men's GroupWednesday Men's GroupMonday Partner GroupFirst Name *Last Name *Email Address *Request Password
URL:https://mindfulcenters.com/program/monday-betrayal-partners-group-therapy-session-for-women/2031-03-17/
ORGANIZER;CN="Mindful Centers":MAILTO:info@mindfulcenters.com
LOCATION:https://mindfulcenters.com/program/monday-betrayal-partners-group-therapy-session-for-women/2031-03-17/
END:VEVENT
BEGIN:VEVENT
DTSTART;TZID=America/Los_Angeles:20310319T190000
DTEND;TZID=America/Los_Angeles:20310319T203000
DTSTAMP:20260421T045812
CREATED:20260210T225339Z
LAST-MODIFIED:20260411T155830Z
UID:10002893-1931713200-1931718600@mindfulcenters.com
SUMMARY:Meditation Drop-In Group
DESCRIPTION:A gentle\, supportive meditation group for individuals impacted by sexual addiction or betrayal trauma. Rooted in compassion and mindfulness\, this offering provides a safe\, non-judgmental space to calm the nervous system\, reconnect with yourself\, and support your healing journey alongside others who understand. The group is facilitated by Darrin Ford and other licensed therapists from Mindful Centers. While led by mental health professionals\, this is a meditation-based support group and not a therapy group. Participation is free for current Mindful Centers clients. Individuals who are not current clients may join through a $50 monthly subscription. \nThose interested in joining must complete a required 20-minute consultation prior to participation. To schedule a consultation\, please click here or call 562-356-8686. You may also email info@mindfulcenters.com.
URL:https://mindfulcenters.com/program/meditation-drop-in-group/2031-03-19/
LOCATION:https://us06web.zoom.us/j/82692059975
END:VEVENT
BEGIN:VEVENT
DTSTART;TZID=America/Los_Angeles:20310324T163000
DTEND;TZID=America/Los_Angeles:20310324T183000
DTSTAMP:20260421T045812
CREATED:20260210T224632Z
LAST-MODIFIED:20260411T155706Z
UID:10002902-1932136200-1932143400@mindfulcenters.com
SUMMARY:Monday Betrayal Partners Group Therapy Session for Women
DESCRIPTION:The Betrayal Partners Group is a confidential\, therapist-led process group for women who have experienced betrayal by a partner impacted with sex or porn addiction. Aligned with Mindful Centers’ mindfulness-based\, evidence-informed approach\, this group provides a safe\, validating space to process betrayal trauma\, restore emotional stability\, and reconnect with one’s sense of self. \nThrough mindful discussion\, psychoeducation\, and peer support\, participants are supported in understanding betrayal trauma\, reducing shame and self-blame\, strengthening emotional regulation\, and developing healthy boundaries and self-care practices. \nThis group is exclusive to active Mindful Centers clients. Those interested in joining must complete a required 20-minute consultation prior to participation. To schedule a consultation\, please click here or call 562-356-8686. You may also email info@mindfulcenters.com. \nThis group is appropriate for individuals seeking structured therapeutic support for betrayal trauma recovery\, emotional healing\, and long-term empowerment\, and is designed to complement the Monday Men’s Group by supporting partners on their own healing path. \n** For active clients please complete the form below to receive password for zoom link.** \nWhich group therapy session will you be joining? *Monday Men's GroupWednesday Men's GroupMonday Partner GroupFirst Name *Last Name *Email Address *Request Password
URL:https://mindfulcenters.com/program/monday-betrayal-partners-group-therapy-session-for-women/2031-03-24/
ORGANIZER;CN="Mindful Centers":MAILTO:info@mindfulcenters.com
LOCATION:https://mindfulcenters.com/program/monday-betrayal-partners-group-therapy-session-for-women/2031-03-24/
END:VEVENT
BEGIN:VEVENT
DTSTART;TZID=America/Los_Angeles:20310326T190000
DTEND;TZID=America/Los_Angeles:20310326T203000
DTSTAMP:20260421T045812
CREATED:20260210T225339Z
LAST-MODIFIED:20260411T155830Z
UID:10002894-1932318000-1932323400@mindfulcenters.com
SUMMARY:Meditation Drop-In Group
DESCRIPTION:A gentle\, supportive meditation group for individuals impacted by sexual addiction or betrayal trauma. Rooted in compassion and mindfulness\, this offering provides a safe\, non-judgmental space to calm the nervous system\, reconnect with yourself\, and support your healing journey alongside others who understand. The group is facilitated by Darrin Ford and other licensed therapists from Mindful Centers. While led by mental health professionals\, this is a meditation-based support group and not a therapy group. Participation is free for current Mindful Centers clients. Individuals who are not current clients may join through a $50 monthly subscription. \nThose interested in joining must complete a required 20-minute consultation prior to participation. To schedule a consultation\, please click here or call 562-356-8686. You may also email info@mindfulcenters.com.
URL:https://mindfulcenters.com/program/meditation-drop-in-group/2031-03-26/
LOCATION:https://us06web.zoom.us/j/82692059975
END:VEVENT
BEGIN:VEVENT
DTSTART;TZID=America/Los_Angeles:20310331T163000
DTEND;TZID=America/Los_Angeles:20310331T183000
DTSTAMP:20260421T045812
CREATED:20260210T224632Z
LAST-MODIFIED:20260411T155706Z
UID:10002903-1932741000-1932748200@mindfulcenters.com
SUMMARY:Monday Betrayal Partners Group Therapy Session for Women
DESCRIPTION:The Betrayal Partners Group is a confidential\, therapist-led process group for women who have experienced betrayal by a partner impacted with sex or porn addiction. Aligned with Mindful Centers’ mindfulness-based\, evidence-informed approach\, this group provides a safe\, validating space to process betrayal trauma\, restore emotional stability\, and reconnect with one’s sense of self. \nThrough mindful discussion\, psychoeducation\, and peer support\, participants are supported in understanding betrayal trauma\, reducing shame and self-blame\, strengthening emotional regulation\, and developing healthy boundaries and self-care practices. \nThis group is exclusive to active Mindful Centers clients. Those interested in joining must complete a required 20-minute consultation prior to participation. To schedule a consultation\, please click here or call 562-356-8686. You may also email info@mindfulcenters.com. \nThis group is appropriate for individuals seeking structured therapeutic support for betrayal trauma recovery\, emotional healing\, and long-term empowerment\, and is designed to complement the Monday Men’s Group by supporting partners on their own healing path. \n** For active clients please complete the form below to receive password for zoom link.** \nWhich group therapy session will you be joining? *Monday Men's GroupWednesday Men's GroupMonday Partner GroupFirst Name *Last Name *Email Address *Request Password
URL:https://mindfulcenters.com/program/monday-betrayal-partners-group-therapy-session-for-women/2031-03-31/
ORGANIZER;CN="Mindful Centers":MAILTO:info@mindfulcenters.com
LOCATION:https://mindfulcenters.com/program/monday-betrayal-partners-group-therapy-session-for-women/2031-03-31/
END:VEVENT
END:VCALENDAR